BEGIN:VCALENDAR
VERSION:2.0
PRODID:-//eventon.com NONSGML v1.0//EN
CALSCALE:GREGORIAN
METHOD:PUBLISH
BEGIN:VEVENT
UID:69e5dac17a34a
DTSTAMP:20260420T075025Z
DTSTART:20260424T170000Z
DTEND:20260424T215900Z
LOCATION:Auf dem Haus Wilhelm-von-Humboldt-Platz 1
SUMMARY:Rumtasting
DESCRIPTION:\nhttps://www.burschenschaft-siegen.de/Veranstaltungen/rumtasti
 ng/
URL:https://www.burschenschaft-siegen.de/Veranstaltungen/rumtasting/
END:VEVENT
END:VCALENDAR