BEGIN:VCALENDAR
VERSION:2.0
PRODID:-//eventon.com NONSGML v1.0//EN
CALSCALE:GREGORIAN
METHOD:PUBLISH
BEGIN:VEVENT
UID:69e5deac68336
DTSTAMP:20260420T080708Z
DTSTART:20260627T080000Z
DTEND:20260627T215900Z
LOCATION:
SUMMARY:1. Mensurtag des WRC
DESCRIPTION:\nhttps://www.burschenschaft-siegen.de/Veranstaltungen/1-mensur
 tag-des-wrc/
URL:https://www.burschenschaft-siegen.de/Veranstaltungen/1-mensurtag-des-wrc/
END:VEVENT
END:VCALENDAR