BEGIN:VCALENDAR
VERSION:2.0
PRODID:-//eventon.com NONSGML v1.0//EN
CALSCALE:GREGORIAN
METHOD:PUBLISH
BEGIN:VEVENT
UID:69e5ddd987c82
DTSTAMP:20260420T080337Z
DTSTART:20260425T160000Z
DTEND:20260425T215900Z
LOCATION:Auf dem Haus Wilhelm-von-Humboldt-Platz 1
SUMMARY:Aktivendinner mit Kölner B! Alemannia und B! Gothia Düsseldorf
DESCRIPTION:Gemeinsam mit der Kölner B! Alemannia sowie der B! Gothia zu D
 üsseldorf\nhttps://www.burschenschaft-siegen.de/Veranstaltungen/weihnachts
 marktbummel-stiftungstag/
URL:https://www.burschenschaft-siegen.de/Veranstaltungen/weihnachtsmarktbummel-stiftungstag/
END:VEVENT
END:VCALENDAR