BEGIN:VCALENDAR
VERSION:2.0
PRODID:-//eventon.com NONSGML v1.0//EN
CALSCALE:GREGORIAN
METHOD:PUBLISH
BEGIN:VEVENT
UID:69e5db491cb00
DTSTAMP:20260420T075241Z
DTSTART:20260612
DTEND:20260613
LOCATION:
SUMMARY:Aktivenfahrt nach Heidelberg
DESCRIPTION:Aktivenfahrt nach Heidelberg\nhttps://www.burschenschaft-siegen
 .de/Veranstaltungen/aktivenfahrt-nach-heidelberg/
URL:https://www.burschenschaft-siegen.de/Veranstaltungen/aktivenfahrt-nach-heidelberg/
END:VEVENT
END:VCALENDAR