BEGIN:VCALENDAR
VERSION:2.0
PRODID:-//eventon.com NONSGML v1.0//EN
CALSCALE:GREGORIAN
METHOD:PUBLISH
BEGIN:VEVENT
UID:69e885ebd329b
DTSTAMP:20260422T082515Z
DTSTART:20260625T170000Z
DTEND:20260625T215900Z
LOCATION:Auf dem Haus Wilhelm-von-Humboldt-Platz 1
SUMMARY:4. Ordentlicher Burschenconvent mit Chargenwahl
DESCRIPTION:Der Convent dient den studierenden Mitgliedern\,  der Aktivitas
 \,  zur Planung kommender Veranstaltungen sowie Besprechung interner Angele
 genheiten.\nhttps://www.burschenschaft-siegen.de/Veranstaltungen/4-ordentli
 cher-burschenconvent-mit-chargenwahl/
URL:https://www.burschenschaft-siegen.de/Veranstaltungen/4-ordentlicher-burschenconvent-mit-chargenwahl/
END:VEVENT
END:VCALENDAR