BEGIN:VCALENDAR
VERSION:2.0
PRODID:-//eventon.com NONSGML v1.0//EN
CALSCALE:GREGORIAN
METHOD:PUBLISH
BEGIN:VEVENT
UID:69e88783452a8
DTSTAMP:20260422T083203Z
DTSTART:20260718T180000Z
DTEND:20260718T215900Z
LOCATION:Auf dem Haus Wilhelm-von-Humboldt-Platz 1
SUMMARY:Hochoffizielle Semesterexkneipe
DESCRIPTION:Das offizielle Couleursemester endet mit dieser Kneipe.\nhttps:
 //www.burschenschaft-siegen.de/Veranstaltungen/hochoffizielle-semesterexkne
 ipe/
URL:https://www.burschenschaft-siegen.de/Veranstaltungen/hochoffizielle-semesterexkneipe/
END:VEVENT
END:VCALENDAR